BEGIN:VCALENDAR
VERSION:2.0
PRODID:-//Francesco Angelico - ECPv6.15.20//NONSGML v1.0//EN
CALSCALE:GREGORIAN
METHOD:PUBLISH
X-WR-CALNAME:Francesco Angelico
X-ORIGINAL-URL:http://francescoangelico.com
X-WR-CALDESC:Events for Francesco Angelico
REFRESH-INTERVAL;VALUE=DURATION:PT1H
X-Robots-Tag:noindex
X-PUBLISHED-TTL:PT1H
BEGIN:VTIMEZONE
TZID:UTC
BEGIN:STANDARD
TZOFFSETFROM:+0000
TZOFFSETTO:+0000
TZNAME:UTC
DTSTART:20160101T000000
END:STANDARD
END:VTIMEZONE
BEGIN:VEVENT
DTSTART;VALUE=DATE:20170608
DTEND;VALUE=DATE:20170609
DTSTAMP:20260426T022033
CREATED:20170905T205926Z
LAST-MODIFIED:20170905T205926Z
UID:554-1496880000-1496966399@francescoangelico.com
SUMMARY:Symphony n.3 in d minor
DESCRIPTION:Mahler \nTiroler Symphonieorchester Innsbruck\, Austria\nMezzo-soprano: Janina Baechle
URL:http://francescoangelico.com/event/symphony-n-3-in-d-minor/
LOCATION:Tiroler Symphonieorchester Innsbruck\, Austria
END:VEVENT
BEGIN:VEVENT
DTSTART;VALUE=DATE:20170709
DTEND;VALUE=DATE:20170710
DTSTAMP:20260426T022033
CREATED:20170905T193531Z
LAST-MODIFIED:20170905T193802Z
UID:385-1499558400-1499644799@francescoangelico.com
SUMMARY:Capriccio
DESCRIPTION:Richard Strauss \nTiroler Landestheater\, Innsbruck\, Austria \nStage Director: Anthony Pilavachi
URL:http://francescoangelico.com/event/capriccio/
LOCATION:Tiroler Landestheater\, Austria
END:VEVENT
BEGIN:VEVENT
DTSTART;VALUE=DATE:20170909
DTEND;VALUE=DATE:20170910
DTSTAMP:20260426T022033
CREATED:20170823T032922Z
LAST-MODIFIED:20170905T101313Z
UID:134-1504915200-1505001599@francescoangelico.com
SUMMARY:Andrea Chénier
DESCRIPTION:Umberto Giordano \nStaatstheater Kassel\, Germany \nStage Director: Michael Schulz
URL:http://francescoangelico.com/event/andrea-chenier/
END:VEVENT
BEGIN:VEVENT
DTSTART;VALUE=DATE:20170930
DTEND;VALUE=DATE:20171001
DTSTAMP:20260426T022033
CREATED:20170823T034540Z
LAST-MODIFIED:20170905T102028Z
UID:145-1506729600-1506815999@francescoangelico.com
SUMMARY:Bohème
DESCRIPTION:Giacomo Puccini \nStaatstheater Kassel\, Germany \nStage Direktor: Philipp Kochheim
URL:http://francescoangelico.com/event/la-boheme/
END:VEVENT
BEGIN:VEVENT
DTSTART;VALUE=DATE:20171002
DTEND;VALUE=DATE:20171003
DTSTAMP:20260426T022033
CREATED:20170823T040922Z
LAST-MODIFIED:20170906T081430Z
UID:155-1506902400-1506988799@francescoangelico.com
SUMMARY:Symphony Concert
DESCRIPTION:Stadthalle Kassel\, Germany \nStaatsorchester Kassel \nViola: Lawrence Power \nAlfred Schnittke: Viola Concerto \nAlexandr Skrjabin: Rêverie op.24 \nSergej Prokofiev: Symphony n. 7 C- sharp minor op.131
URL:http://francescoangelico.com/event/kassel-1-siko/
END:VEVENT
BEGIN:VEVENT
DTSTART;VALUE=DATE:20171123
DTEND;VALUE=DATE:20171124
DTSTAMP:20260426T022033
CREATED:20170905T102629Z
LAST-MODIFIED:20170906T081424Z
UID:328-1511395200-1511481599@francescoangelico.com
SUMMARY:Symphony Concert
DESCRIPTION:Auditorium Pollini\, Padova\, Italy \nOrchestra di Padova a del Veneto \nPiano: Maurizio Baglini \nAlfredo Casella: Scarlattiana op.44 \nIgor Stravinskij: Pulcinella Suite \nSergej Prokofiev: Symphony n.1 D major op.25
URL:http://francescoangelico.com/event/symphonisches-konzert/
LOCATION:Orchestra di Padova a del Veneto\, Italy
END:VEVENT
BEGIN:VEVENT
DTSTART;VALUE=DATE:20171218
DTEND;VALUE=DATE:20171219
DTSTAMP:20260426T022033
CREATED:20170905T102755Z
LAST-MODIFIED:20170906T081416Z
UID:333-1513555200-1513641599@francescoangelico.com
SUMMARY:Symphony Concert
DESCRIPTION:Stadthalle Kassel\, Germany \nStaatsorchester Kassel \nClaude Debussy: La Mer \nAlfredo Casella: Symphony n. 2 in C minor op.12
URL:http://francescoangelico.com/event/symphonisches-konzert-2/
END:VEVENT
BEGIN:VEVENT
DTSTART;VALUE=DATE:20180210
DTEND;VALUE=DATE:20180211
DTSTAMP:20260426T022033
CREATED:20170905T103154Z
LAST-MODIFIED:20170905T103229Z
UID:337-1518220800-1518307199@francescoangelico.com
SUMMARY:Jenůfa
DESCRIPTION:Leoš Janáček \nStaatstheater Kassel\, Germany \nStage Director: Markus Dietz
URL:http://francescoangelico.com/event/jenufa/
END:VEVENT
BEGIN:VEVENT
DTSTART;VALUE=DATE:20180222
DTEND;VALUE=DATE:20180223
DTSTAMP:20260426T022033
CREATED:20170905T103644Z
LAST-MODIFIED:20170906T081803Z
UID:356-1519257600-1519343999@francescoangelico.com
SUMMARY:Symphony Concert
DESCRIPTION:Congress Innsbruck\, Austria \nTiroler Symphonieorchester Innsbruck \nChor + Extrachor from Tiroler Landestheaters\nCollegium Vocale Innsbruck\nVokalensemble Vocappella\nKammerchor Innsbruck\nJugendchor Stimmpfeffer\nJuko-Jugendchor Innsbruck\nChor des Musikgymnasiums Innsbruck \nLudwig Van Beethoven: Symphony n. 9 D- major
URL:http://francescoangelico.com/event/symphonisches-konzert-3/
LOCATION:Tiroler Symphonieorchester Innsbruck\, Austria
END:VEVENT
BEGIN:VEVENT
DTSTART;VALUE=DATE:20180310
DTEND;VALUE=DATE:20180311
DTSTAMP:20260426T022033
CREATED:20170905T103838Z
LAST-MODIFIED:20170905T103922Z
UID:360-1520640000-1520726399@francescoangelico.com
SUMMARY:La Cenerentola
DESCRIPTION:Gioachino Rossini \nBayerische Staatsoper\, Munich\, Germany \nStage Director: Jean-Pierre Ponelle
URL:http://francescoangelico.com/event/la-cenerentola/
LOCATION:Bayerische Staatsoper\, Munich\, Germany
END:VEVENT
BEGIN:VEVENT
DTSTART;VALUE=DATE:20180330
DTEND;VALUE=DATE:20180331
DTSTAMP:20260426T022033
CREATED:20170905T104500Z
LAST-MODIFIED:20170906T081226Z
UID:371-1522368000-1522454399@francescoangelico.com
SUMMARY:Symphony Concert
DESCRIPTION:Stadthalle Kassel\, Germany \nStaatsorchester Kassel \nBariton: Armin Kolarczyk \nLuigi Dallapiccola: Preghiere \nAnton Bruckner: Symphony n. 6 A-major
URL:http://francescoangelico.com/event/symphonisches-konzert-4/
END:VEVENT
BEGIN:VEVENT
DTSTART;VALUE=DATE:20180604
DTEND;VALUE=DATE:20180605
DTSTAMP:20260426T022033
CREATED:20170905T104620Z
LAST-MODIFIED:20170906T081219Z
UID:375-1528070400-1528156799@francescoangelico.com
SUMMARY:Symphony Concert
DESCRIPTION:Stadthalle Kassel\, Germany \nStaatsorchester Kassel \nMezzosopran: Janina Baechle \nVincenzo Bellini: Norma Ouverture \nRichard Wagner: Wesendonk Lieder \nArnold Schönberg: Pelleas und Melisande op.5
URL:http://francescoangelico.com/event/symphonisches-konzert-5/
END:VEVENT
BEGIN:VEVENT
DTSTART;VALUE=DATE:20180901
DTEND;VALUE=DATE:20180902
DTSTAMP:20260426T022033
CREATED:20180429T120357Z
LAST-MODIFIED:20191212T075956Z
UID:942-1535760000-1535846399@francescoangelico.com
SUMMARY:Das Rheingold
DESCRIPTION:Richard Wagner \nStaatstheater Kassel\, Germany \nStage Director: Markus Dietz
URL:http://francescoangelico.com/event/das-rheingold/
LOCATION:Staatstheater Kassel\, Germany
END:VEVENT
BEGIN:VEVENT
DTSTART;VALUE=DATE:20180909
DTEND;VALUE=DATE:20180910
DTSTAMP:20260426T022033
CREATED:20180430T094642Z
LAST-MODIFIED:20191212T081310Z
UID:983-1536451200-1536537599@francescoangelico.com
SUMMARY:I Capuleti e i Montecchi
DESCRIPTION:Vincenzo Bellini \nStaatstheater Kassel\, Germany \nconcert performance
URL:http://francescoangelico.com/event/capuleti-e-montecchi/
LOCATION:Staatstheater Kassel\, Germany
END:VEVENT
BEGIN:VEVENT
DTSTART;VALUE=DATE:20180917
DTEND;VALUE=DATE:20180918
DTSTAMP:20260426T022033
CREATED:20180513T053536Z
LAST-MODIFIED:20180513T053536Z
UID:1029-1537142400-1537228799@francescoangelico.com
SUMMARY:Symphony Concert
DESCRIPTION:Stadthalle Kassel\, Germany \nStaatsorchester Kassel \nVioloncello: Silvia Chiesa \nGiuseppe Martucci: Notturno for orchestra op.70/1 \nMario Castelnuovo – Tedesco: Cello Concerto \nPyotr Ilyich Tchaikovsky: Symphony n.5 in E minor op.64
URL:http://francescoangelico.com/event/symphony-concert/
LOCATION:Staatstheater Kassel\, Germany
END:VEVENT
BEGIN:VEVENT
DTSTART;VALUE=DATE:20181013
DTEND;VALUE=DATE:20181014
DTSTAMP:20260426T022033
CREATED:20180527T141502Z
LAST-MODIFIED:20191212T080502Z
UID:1034-1539388800-1539475199@francescoangelico.com
SUMMARY:Falstaff
DESCRIPTION:Giuseppe Verdi  \nStaatstheater Kassel\, Germany \nStage Director: Adriana Altaras
URL:http://francescoangelico.com/event/falstaff/
LOCATION:Staatstheater Kassel\, Germany
END:VEVENT
BEGIN:VEVENT
DTSTART;VALUE=DATE:20181028
DTEND;VALUE=DATE:20181029
DTSTAMP:20260426T022033
CREATED:20180527T144828Z
LAST-MODIFIED:20180527T153527Z
UID:1124-1540684800-1540771199@francescoangelico.com
SUMMARY:Don Pasquale
DESCRIPTION:Gaetano Donizetti \nStaatsoper Stuttgart\, Germany \nStage Director: Jossi Wieler\, Sergio Morabito
URL:http://francescoangelico.com/event/don-pasquale/
LOCATION:Staatsoper Stuttgart\, Germany
END:VEVENT
BEGIN:VEVENT
DTSTART;VALUE=DATE:20181102
DTEND;VALUE=DATE:20181103
DTSTAMP:20260426T022033
CREATED:20181031T161839Z
LAST-MODIFIED:20181031T161839Z
UID:1187-1541116800-1541203199@francescoangelico.com
SUMMARY:Stabat Mater
DESCRIPTION:Gioachino Rossini \nSopran: Louise Kemény \nMezzosopran: Maria Fiselier \nTenor: Linard Vrielink \nBass: André Morsch \nStaatsorchester Kassel
URL:http://francescoangelico.com/event/stabat-mater/
LOCATION:Kasseler Musiktage\, Kassel\, Germany
END:VEVENT
BEGIN:VEVENT
DTSTART;VALUE=DATE:20181214
DTEND;VALUE=DATE:20181215
DTSTAMP:20260426T022033
CREATED:20181127T150939Z
LAST-MODIFIED:20191212T075716Z
UID:1233-1544745600-1544831999@francescoangelico.com
SUMMARY:Falstaff
DESCRIPTION:Giuseppe Verdi  \nFalstaff \n  \nStaatstheater Kassel \nStage Director: Adriana Altaras \n 
URL:http://francescoangelico.com/event/falstaff-2/
LOCATION:Staatstheater Kassel\, Germany
END:VEVENT
BEGIN:VEVENT
DTSTART;VALUE=DATE:20190309
DTEND;VALUE=DATE:20190310
DTSTAMP:20260426T022033
CREATED:20180513T051021Z
LAST-MODIFIED:20191208T160222Z
UID:994-1552089600-1552175999@francescoangelico.com
SUMMARY:Die Walküre
DESCRIPTION:Richard Wagner \nStaatstheater Kassel \nStage Director: Markus Dietz
URL:http://francescoangelico.com/event/die-walkure/
LOCATION:Staatstheater Kassel\, Germany
END:VEVENT
BEGIN:VEVENT
DTSTART;VALUE=DATE:20190419
DTEND;VALUE=DATE:20190420
DTSTAMP:20260426T022033
CREATED:20190408T084435Z
LAST-MODIFIED:20191208T160606Z
UID:1245-1555632000-1555718399@francescoangelico.com
SUMMARY:Symphony Concert
DESCRIPTION:Stadthalle Kassel\, Germany \nChor and Extra Chor of Staatstheater Kassel \nStaatsorchester Kassel \nSopran: Karina Flores \nAlt: Ulrike Schneider \nTenor: Antonio Poli \nBass: Michael Hauenstein \nGiuseppe Verdi : Messa da Requiem  \n  \n 
URL:http://francescoangelico.com/event/symphony-concert-7/
LOCATION:Staatstheater Kassel\, Germany
END:VEVENT
BEGIN:VEVENT
DTSTART;VALUE=DATE:20190428
DTEND;VALUE=DATE:20190429
DTSTAMP:20260426T022033
CREATED:20180513T051021Z
LAST-MODIFIED:20191208T155923Z
UID:1000-1556409600-1556495999@francescoangelico.com
SUMMARY:Die Walküre
DESCRIPTION:Richard Wagner \nStaatstheater Kassel \nStage Director: Markus Dietz
URL:http://francescoangelico.com/event/die-walkure-2019-04-28/
LOCATION:Staatstheater Kassel\, Germany
END:VEVENT
BEGIN:VEVENT
DTSTART;VALUE=DATE:20190502
DTEND;VALUE=DATE:20190503
DTSTAMP:20260426T022033
CREATED:20190409T080603Z
LAST-MODIFIED:20190409T080603Z
UID:1261-1556755200-1556841599@francescoangelico.com
SUMMARY:Ballhaus Konzert
DESCRIPTION:Ballhaus im Schlosspark\, Kassel\, Germany \nStaatsorchester Kassel \nCoro Cantiamo Piccolo \nMezzo-Sopran: Marie-Luise Dreßen \nCarlo Ciceri: Ins Wasser (Deutsche Erstaufführung) \nFranz Schubert: Schauspielmusik zu Rosamunde
URL:http://francescoangelico.com/event/ballhaus-konzert/
END:VEVENT
BEGIN:VEVENT
DTSTART;VALUE=DATE:20190517
DTEND;VALUE=DATE:20190518
DTSTAMP:20260426T022033
CREATED:20181119T103221Z
LAST-MODIFIED:20181119T103639Z
UID:1209-1558051200-1558137599@francescoangelico.com
SUMMARY:Symphony Concert
DESCRIPTION:Mannheim\,Rosengarten \nFlute: Magali Mosnier \nDeutsche Staatsphilharmonie Rheinland-Pfalz \nPyotr Ilyich Tchaikovsky: Francesca da Rimini op.32 \nWolfgang Amadeus Mozart: Flute Concerto n.1 in G major KV313 \nPierre Boulez: Mémoriales (…explosante-fixe…Originel) \nPyotr Ilyich Tchaikovsky: Symphony n.5 in E minor op.64 \n  \n  \n  \n 
URL:http://francescoangelico.com/event/symphony-concert-4/
END:VEVENT
BEGIN:VEVENT
DTSTART;VALUE=DATE:20190518
DTEND;VALUE=DATE:20190519
DTSTAMP:20260426T022033
CREATED:20181119T104029Z
LAST-MODIFIED:20181119T104029Z
UID:1220-1558137600-1558223999@francescoangelico.com
SUMMARY:Symphony Concert
DESCRIPTION:Mainz\, Kurfürstliches Schloss \nFlute: Magali Mosnier \nDeutsche Staatsphilharmonie Rheinland-Pfalz \nPyotr Ilyich Tchaikovsky: Francesca da Rimini op.32 \nWolfgang Amadeus Mozart: Flute Concerto n.1 in G major KV313 \nPierre Boulez: Mémoriales (…explosante-fixe…Originel) \nPyotr Ilyich Tchaikovsky: Symphony n.5 in E minor op.64 \n 
URL:http://francescoangelico.com/event/symphony-concert-5/
END:VEVENT
BEGIN:VEVENT
DTSTART;VALUE=DATE:20190519
DTEND;VALUE=DATE:20190520
DTSTAMP:20260426T022033
CREATED:20181119T104257Z
LAST-MODIFIED:20181119T104441Z
UID:1222-1558224000-1558310399@francescoangelico.com
SUMMARY:Symphony Concert
DESCRIPTION:Schweinfurt\, Theater der Stadt \nFlute: Daniela Koch \nDeutsche Staatsphilharmonie Rheinland-Pfalz \nPyotr Ilyich Tchaikovsky: Francesca da Rimini op.32 \nWolfgang Amadeus Mozart: Flute Concerto n.1 in G major KV313 \nPierre Boulez: Mémoriales (…explosante-fixe…Originel) \nPyotr Ilyich Tchaikovsky: Symphony n.5 in E minor op.64 \n 
URL:http://francescoangelico.com/event/symphony-concert-6/
END:VEVENT
BEGIN:VEVENT
DTSTART;VALUE=DATE:20190522
DTEND;VALUE=DATE:20190523
DTSTAMP:20260426T022033
CREATED:20190408T085845Z
LAST-MODIFIED:20190408T091227Z
UID:1253-1558483200-1558569599@francescoangelico.com
SUMMARY:Symphony Concert
DESCRIPTION:Conservatorio di Milano\, Italy \nSala Verdi \nMünchner Symphoniker \nViolin: Nikita Boriso-Glebsky \nFranz Berwald: Ouvertüre zur Oper “Extrella de Soria”\nHenri Vieuxtemps: Violinkonzert Nr. 5 A-Moll Op. 37 Grétry\nFelix Mendelssohn Bartholdy: Sinfonie Nr. 4 A-Dur Op. 90 Italienische
URL:http://francescoangelico.com/event/symphony-concert-8/
END:VEVENT
BEGIN:VEVENT
DTSTART;VALUE=DATE:20190526
DTEND;VALUE=DATE:20190527
DTSTAMP:20260426T022033
CREATED:20181031T164821Z
LAST-MODIFIED:20181031T165324Z
UID:1202-1558828800-1558915199@francescoangelico.com
SUMMARY:Symphony Concert
DESCRIPTION:BigBox Allgäu\, Kempten \nMünchner Symphoniker \nViolin: Nikita Boriso-Glebsky \nFranz Berwald: Ouvertüre zur Oper “Extrella de Soria”\nHugo Wolf: Italienische Serenade\nHenri Vieuxtemps: Violinkonzert Nr. 5 A-Moll Op. 37 Grétry\nFelix Mendelssohn Bartholdy: Sinfonie Nr. 4 A-Dur Op. 90 Italienische
URL:http://francescoangelico.com/event/symphony-concert-3/
END:VEVENT
BEGIN:VEVENT
DTSTART;VALUE=DATE:20190530
DTEND;VALUE=DATE:20190531
DTSTAMP:20260426T022033
CREATED:20190409T081448Z
LAST-MODIFIED:20190409T081448Z
UID:1266-1559174400-1559260799@francescoangelico.com
SUMMARY:Ballhaus Konzert
DESCRIPTION:Ballhaus im Schlosspark\, Kassel\, Germany \nStaatsorchester Kassel \nFranz Schubert / Joseph Joachim:  Sonate für Klavier zu vier Händen C-Dur Grand Duo D 812 \n  \n  \n 
URL:http://francescoangelico.com/event/ballhaus-konzert-2/
END:VEVENT
BEGIN:VEVENT
DTSTART;VALUE=DATE:20190624
DTEND;VALUE=DATE:20190625
DTSTAMP:20260426T022033
CREATED:20190423T120656Z
LAST-MODIFIED:20191208T155754Z
UID:1311-1561334400-1561420799@francescoangelico.com
SUMMARY:Symphony Concert
DESCRIPTION:Stadthalle Kassel\, Germany \nStaatsorchester Kassel \nSopran: Evgenia Sotnikova \nAlt: Olesya Petrova \nTenor: Viktor Antipenko \nAaron Copland: Quiet City \nDmitri Schostakovich: From Jewish Folk Poetry op. 79 \nRichard Strauss: Ein Heldenleben op. 40 \n 
URL:http://francescoangelico.com/event/symphony-concert-9/
LOCATION:Staatstheater Kassel\, Germany
END:VEVENT
END:VCALENDAR