BEGIN:VCALENDAR
VERSION:2.0
PRODID:-//Francesco Angelico - ECPv6.15.20//NONSGML v1.0//EN
CALSCALE:GREGORIAN
METHOD:PUBLISH
X-WR-CALNAME:Francesco Angelico
X-ORIGINAL-URL:https://francescoangelico.com/de/
X-WR-CALDESC:Veranstaltungen für Francesco Angelico
REFRESH-INTERVAL;VALUE=DURATION:PT1H
X-Robots-Tag:noindex
X-PUBLISHED-TTL:PT1H
BEGIN:VTIMEZONE
TZID:UTC
BEGIN:STANDARD
TZOFFSETFROM:+0000
TZOFFSETTO:+0000
TZNAME:UTC
DTSTART:20220101T000000
END:STANDARD
END:VTIMEZONE
BEGIN:VEVENT
DTSTART;VALUE=DATE:20230605
DTEND;VALUE=DATE:20230606
DTSTAMP:20260424T145825
CREATED:20220822T144919Z
LAST-MODIFIED:20220822T151324Z
UID:2100-1685923200-1686009599@francescoangelico.com
SUMMARY:Das Rheingold
DESCRIPTION:Richard Wagner \nStaatsorchester Kassel \nStage Director: Markus Dietz
URL:https://francescoangelico.com/de/event/das-rheingold-2-2023-06-05/
END:VEVENT
BEGIN:VEVENT
DTSTART;VALUE=DATE:20230606
DTEND;VALUE=DATE:20230607
DTSTAMP:20260424T145825
CREATED:20221113T112756Z
LAST-MODIFIED:20221113T112756Z
UID:5241-1686009600-1686095999@francescoangelico.com
SUMMARY:Die Walküre
DESCRIPTION:Richard Wagner \nStaatstheater Kassel \nStage Director: Markus Dietz
URL:https://francescoangelico.com/de/event/die-walkuere-2/
END:VEVENT
BEGIN:VEVENT
DTSTART;VALUE=DATE:20230608
DTEND;VALUE=DATE:20230609
DTSTAMP:20260424T145825
CREATED:20220822T145407Z
LAST-MODIFIED:20220822T145407Z
UID:2118-1686182400-1686268799@francescoangelico.com
SUMMARY:Siegfried
DESCRIPTION:Richard Wagner \nStaatstheater Kassel \nStage Director: Markus Dietz
URL:https://francescoangelico.com/de/event/siegfried-2-2023-06-08/
END:VEVENT
BEGIN:VEVENT
DTSTART;VALUE=DATE:20230610
DTEND;VALUE=DATE:20230611
DTSTAMP:20260424T145825
CREATED:20220822T145729Z
LAST-MODIFIED:20220822T145729Z
UID:2133-1686355200-1686441599@francescoangelico.com
SUMMARY:Götterdämmerung
DESCRIPTION:Richard Wagner \nStaatstheater Kassel \nStage Director: Markus Dietz
URL:https://francescoangelico.com/de/event/gotterdammerung-2023-06-10/
END:VEVENT
BEGIN:VEVENT
DTSTART;VALUE=DATE:20230623
DTEND;VALUE=DATE:20230624
DTSTAMP:20260424T145825
CREATED:20220822T144247Z
LAST-MODIFIED:20220822T144732Z
UID:2092-1687478400-1687564799@francescoangelico.com
SUMMARY:Mefistofele
DESCRIPTION:Arrigo Boito \nOpéra National du Capitole Toulouse\, France \nStage Director: Jean-Louis Grinda
URL:https://francescoangelico.com/de/event/mefistofele-2/
END:VEVENT
BEGIN:VEVENT
DTSTART;VALUE=DATE:20230625
DTEND;VALUE=DATE:20230626
DTSTAMP:20260424T145825
CREATED:20220822T144247Z
LAST-MODIFIED:20220822T144247Z
UID:2094-1687651200-1687737599@francescoangelico.com
SUMMARY:Mefistofele
DESCRIPTION:Arrigo Boito \nOpéra National du Capitole Toulouse\, France \nStage Director: Jean-Louis Grinda
URL:https://francescoangelico.com/de/event/mefistofele-2-2023-06-25/
END:VEVENT
BEGIN:VEVENT
DTSTART;VALUE=DATE:20230627
DTEND;VALUE=DATE:20230628
DTSTAMP:20260424T145825
CREATED:20220822T144247Z
LAST-MODIFIED:20220822T144247Z
UID:2095-1687824000-1687910399@francescoangelico.com
SUMMARY:Mefistofele
DESCRIPTION:Arrigo Boito \nOpéra National du Capitole Toulouse\, France \nStage Director: Jean-Louis Grinda
URL:https://francescoangelico.com/de/event/mefistofele-2-2023-06-27/
END:VEVENT
BEGIN:VEVENT
DTSTART;VALUE=DATE:20230630
DTEND;VALUE=DATE:20230701
DTSTAMP:20260424T145825
CREATED:20220822T144247Z
LAST-MODIFIED:20220822T144247Z
UID:2096-1688083200-1688169599@francescoangelico.com
SUMMARY:Mefistofele
DESCRIPTION:Arrigo Boito \nOpéra National du Capitole Toulouse\, France \nStage Director: Jean-Louis Grinda
URL:https://francescoangelico.com/de/event/mefistofele-2-2023-06-30/
END:VEVENT
END:VCALENDAR