BEGIN:VCALENDAR
VERSION:2.0
PRODID:-//Francesco Angelico - ECPv6.15.20//NONSGML v1.0//EN
CALSCALE:GREGORIAN
METHOD:PUBLISH
X-ORIGINAL-URL:https://francescoangelico.com/de/
X-WR-CALDESC:Veranstaltungen für Francesco Angelico
REFRESH-INTERVAL;VALUE=DURATION:PT1H
X-Robots-Tag:noindex
X-PUBLISHED-TTL:PT1H
BEGIN:VTIMEZONE
TZID:UTC
BEGIN:STANDARD
TZOFFSETFROM:+0000
TZOFFSETTO:+0000
TZNAME:UTC
DTSTART:20210101T000000
END:STANDARD
END:VTIMEZONE
BEGIN:VEVENT
DTSTART;VALUE=DATE:20220701
DTEND;VALUE=DATE:20220702
DTSTAMP:20260422T103816
CREATED:20210603T145909Z
LAST-MODIFIED:20220506T133308Z
UID:1817-1656633600-1656719999@francescoangelico.com
SUMMARY:Einbruch mehrerer Dunkelheiten ( world premiere)
DESCRIPTION:Composer: Felix Leuschner \nStaatstheater Kassel \nLibretto: Dietmar Dath \nStage Director: Florentine Klepper
URL:https://francescoangelico.com/de/event/blitze-sprechen-deutsch-world-premiere-2022-07-01/
END:VEVENT
BEGIN:VEVENT
DTSTART;VALUE=DATE:20220703
DTEND;VALUE=DATE:20220704
DTSTAMP:20260422T103816
CREATED:20210603T145909Z
LAST-MODIFIED:20220506T133308Z
UID:1818-1656806400-1656892799@francescoangelico.com
SUMMARY:Einbruch mehrerer Dunkelheiten ( world premiere)
DESCRIPTION:Composer: Felix Leuschner \nStaatstheater Kassel \nLibretto: Dietmar Dath \nStage Director: Florentine Klepper
URL:https://francescoangelico.com/de/event/blitze-sprechen-deutsch-world-premiere-2022-07-03/
END:VEVENT
BEGIN:VEVENT
DTSTART;VALUE=DATE:20220711
DTEND;VALUE=DATE:20220712
DTSTAMP:20260422T103816
CREATED:20210603T154204Z
LAST-MODIFIED:20210603T154421Z
UID:1856-1657497600-1657583999@francescoangelico.com
SUMMARY:Symphony Concert
DESCRIPTION:Stadthalle Kassel\, Germany \nStaatsorchester Kassel \nCello: Nico Treutler \nRobert Schumann: Cello concerto in A minor op.129 \nJohannes Brahms: Symphony n. 3 in F major op. 90 \n 
URL:https://francescoangelico.com/de/event/symphony-concert-20/
END:VEVENT
END:VCALENDAR