BEGIN:VCALENDAR
VERSION:2.0
PRODID:-//Francesco Angelico - ECPv6.15.20//NONSGML v1.0//EN
CALSCALE:GREGORIAN
METHOD:PUBLISH
X-WR-CALNAME:Francesco Angelico
X-ORIGINAL-URL:https://francescoangelico.com/de/
X-WR-CALDESC:Veranstaltungen für Francesco Angelico
REFRESH-INTERVAL;VALUE=DURATION:PT1H
X-Robots-Tag:noindex
X-PUBLISHED-TTL:PT1H
BEGIN:VTIMEZONE
TZID:UTC
BEGIN:STANDARD
TZOFFSETFROM:+0000
TZOFFSETTO:+0000
TZNAME:UTC
DTSTART:20210101T000000
END:STANDARD
END:VTIMEZONE
BEGIN:VEVENT
DTSTART;VALUE=DATE:20220604
DTEND;VALUE=DATE:20220605
DTSTAMP:20260422T102630
CREATED:20210603T145909Z
LAST-MODIFIED:20220506T133307Z
UID:1810-1654300800-1654387199@francescoangelico.com
SUMMARY:Einbruch mehrerer Dunkelheiten ( world premiere)
DESCRIPTION:Composer: Felix Leuschner \nStaatstheater Kassel \nLibretto: Dietmar Dath \nStage Director: Florentine Klepper
URL:https://francescoangelico.com/de/event/blitze-sprechen-deutsch-world-premiere/
END:VEVENT
BEGIN:VEVENT
DTSTART;VALUE=DATE:20220610
DTEND;VALUE=DATE:20220611
DTSTAMP:20260422T102630
CREATED:20210603T145909Z
LAST-MODIFIED:20220506T133307Z
UID:1812-1654819200-1654905599@francescoangelico.com
SUMMARY:Einbruch mehrerer Dunkelheiten ( world premiere)
DESCRIPTION:Composer: Felix Leuschner \nStaatstheater Kassel \nLibretto: Dietmar Dath \nStage Director: Florentine Klepper
URL:https://francescoangelico.com/de/event/blitze-sprechen-deutsch-world-premiere-2022-06-10/
END:VEVENT
BEGIN:VEVENT
DTSTART;VALUE=DATE:20220611
DTEND;VALUE=DATE:20220612
DTSTAMP:20260422T102630
CREATED:20210603T145909Z
LAST-MODIFIED:20220506T133307Z
UID:1813-1654905600-1654991999@francescoangelico.com
SUMMARY:Einbruch mehrerer Dunkelheiten ( world premiere)
DESCRIPTION:Composer: Felix Leuschner \nStaatstheater Kassel \nLibretto: Dietmar Dath \nStage Director: Florentine Klepper
URL:https://francescoangelico.com/de/event/blitze-sprechen-deutsch-world-premiere-2022-06-11/
END:VEVENT
BEGIN:VEVENT
DTSTART;VALUE=DATE:20220613
DTEND;VALUE=DATE:20220614
DTSTAMP:20260422T102630
CREATED:20210603T145909Z
LAST-MODIFIED:20220506T133307Z
UID:1814-1655078400-1655164799@francescoangelico.com
SUMMARY:Einbruch mehrerer Dunkelheiten ( world premiere)
DESCRIPTION:Composer: Felix Leuschner \nStaatstheater Kassel \nLibretto: Dietmar Dath \nStage Director: Florentine Klepper
URL:https://francescoangelico.com/de/event/blitze-sprechen-deutsch-world-premiere-2022-06-13/
END:VEVENT
BEGIN:VEVENT
DTSTART;VALUE=DATE:20220616
DTEND;VALUE=DATE:20220617
DTSTAMP:20260422T102630
CREATED:20220506T134155Z
LAST-MODIFIED:20220506T134419Z
UID:2002-1655337600-1655423999@francescoangelico.com
SUMMARY:Simon Boccanegra
DESCRIPTION:Giuseppe Verdi \nLatvian National Opera\, Riga \nStage Director: Stephen Lawless
URL:https://francescoangelico.com/de/event/simon-boccanegra/
END:VEVENT
BEGIN:VEVENT
DTSTART;VALUE=DATE:20220617
DTEND;VALUE=DATE:20220618
DTSTAMP:20260422T102630
CREATED:20210603T145909Z
LAST-MODIFIED:20220506T133308Z
UID:1815-1655424000-1655510399@francescoangelico.com
SUMMARY:Einbruch mehrerer Dunkelheiten ( world premiere)
DESCRIPTION:Composer: Felix Leuschner \nStaatstheater Kassel \nLibretto: Dietmar Dath \nStage Director: Florentine Klepper
URL:https://francescoangelico.com/de/event/blitze-sprechen-deutsch-world-premiere-2022-06-17/
END:VEVENT
BEGIN:VEVENT
DTSTART;VALUE=DATE:20220619
DTEND;VALUE=DATE:20220620
DTSTAMP:20260422T102630
CREATED:20220506T134155Z
LAST-MODIFIED:20220506T134155Z
UID:2006-1655596800-1655683199@francescoangelico.com
SUMMARY:Simon Boccanegra
DESCRIPTION:Giuseppe Verdi \nLatvian National Opera\, Riga \nStage Director: Stephen Lawless
URL:https://francescoangelico.com/de/event/simon-boccanegra-2022-06-19/
END:VEVENT
BEGIN:VEVENT
DTSTART;VALUE=DATE:20220625
DTEND;VALUE=DATE:20220626
DTSTAMP:20260422T102630
CREATED:20210603T145909Z
LAST-MODIFIED:20220506T133308Z
UID:1816-1656115200-1656201599@francescoangelico.com
SUMMARY:Einbruch mehrerer Dunkelheiten ( world premiere)
DESCRIPTION:Composer: Felix Leuschner \nStaatstheater Kassel \nLibretto: Dietmar Dath \nStage Director: Florentine Klepper
URL:https://francescoangelico.com/de/event/blitze-sprechen-deutsch-world-premiere-2022-06-25/
END:VEVENT
END:VCALENDAR