BEGIN:VCALENDAR
VERSION:2.0
PRODID:-//Francesco Angelico - ECPv6.15.20//NONSGML v1.0//EN
CALSCALE:GREGORIAN
METHOD:PUBLISH
X-WR-CALNAME:Francesco Angelico
X-ORIGINAL-URL:https://francescoangelico.com/de/
X-WR-CALDESC:Veranstaltungen für Francesco Angelico
REFRESH-INTERVAL;VALUE=DURATION:PT1H
X-Robots-Tag:noindex
X-PUBLISHED-TTL:PT1H
BEGIN:VTIMEZONE
TZID:UTC
BEGIN:STANDARD
TZOFFSETFROM:+0000
TZOFFSETTO:+0000
TZNAME:UTC
DTSTART:20220101T000000
END:STANDARD
END:VTIMEZONE
BEGIN:VEVENT
DTSTART;VALUE=DATE:20230528
DTEND;VALUE=DATE:20230529
DTSTAMP:20260424T150844
CREATED:20221119T102855Z
LAST-MODIFIED:20221119T102855Z
UID:5338-1685232000-1685318399@francescoangelico.com
SUMMARY:Forza del Destino
DESCRIPTION:Giuseppe Verdi \nStaatstheater Kassel \nStage Director: Valentin Schwarz
URL:https://francescoangelico.com/de/event/forza-del-destino-2/
END:VEVENT
END:VCALENDAR