BEGIN:VCALENDAR
VERSION:2.0
PRODID:-//Francesco Angelico - ECPv6.15.20//NONSGML v1.0//EN
CALSCALE:GREGORIAN
METHOD:PUBLISH
X-WR-CALNAME:Francesco Angelico
X-ORIGINAL-URL:https://francescoangelico.com/de/
X-WR-CALDESC:Veranstaltungen für Francesco Angelico
REFRESH-INTERVAL;VALUE=DURATION:PT1H
X-Robots-Tag:noindex
X-PUBLISHED-TTL:PT1H
BEGIN:VTIMEZONE
TZID:UTC
BEGIN:STANDARD
TZOFFSETFROM:+0000
TZOFFSETTO:+0000
TZNAME:UTC
DTSTART:20170101T000000
END:STANDARD
END:VTIMEZONE
BEGIN:VEVENT
DTSTART;VALUE=DATE:20180604
DTEND;VALUE=DATE:20180605
DTSTAMP:20260422T205352
CREATED:20170905T104620Z
LAST-MODIFIED:20170906T081729Z
UID:377-1528070400-1528156799@francescoangelico.com
SUMMARY:Symphonisches Konzert
DESCRIPTION:Stadthalle Kassel\, Germany \nStaatsorchester Kassel \nMezzosopran: Janina Baechle \nVincenzo Bellini: Norma Ouverture \nRichard Wagner: Wesendonk Lieder \nArnold Schönberg: Pelleas und Melisande op.5
URL:https://francescoangelico.com/de/event/symphonisches-konzert-5/
END:VEVENT
END:VCALENDAR