BEGIN:VCALENDAR
VERSION:2.0
PRODID:-//Francesco Angelico - ECPv6.15.20//NONSGML v1.0//EN
CALSCALE:GREGORIAN
METHOD:PUBLISH
X-ORIGINAL-URL:https://francescoangelico.com
X-WR-CALDESC:Events for Francesco Angelico
REFRESH-INTERVAL;VALUE=DURATION:PT1H
X-Robots-Tag:noindex
X-PUBLISHED-TTL:PT1H
BEGIN:VTIMEZONE
TZID:UTC
BEGIN:STANDARD
TZOFFSETFROM:+0000
TZOFFSETTO:+0000
TZNAME:UTC
DTSTART:20220101T000000
END:STANDARD
END:VTIMEZONE
BEGIN:VEVENT
DTSTART;VALUE=DATE:20230101
DTEND;VALUE=DATE:20230102
DTSTAMP:20260421T171406
CREATED:20221115T074330Z
LAST-MODIFIED:20221115T074330Z
UID:5245-1672531200-1672617599@francescoangelico.com
SUMMARY:New Year´s Concert
DESCRIPTION:Staatsorchester Kassel \nDvořák\, Brahms\, Smetana\, Glinka
URL:https://francescoangelico.com/event/new-years-concert-2/
END:VEVENT
BEGIN:VEVENT
DTSTART;VALUE=DATE:20230101
DTEND;VALUE=DATE:20230102
DTSTAMP:20260421T171406
CREATED:20221115T074523Z
LAST-MODIFIED:20221115T074523Z
UID:5249-1672531200-1672617599@francescoangelico.com
SUMMARY:Neujahrskonzert
DESCRIPTION:Staatsorchester Kassel \nDvořák\, Brahms\, Smetana\, Glinka
URL:https://francescoangelico.com/event/neujahrskonzert-2-2023-01-01/
END:VEVENT
BEGIN:VEVENT
DTSTART;VALUE=DATE:20230101
DTEND;VALUE=DATE:20230102
DTSTAMP:20260421T171406
CREATED:20221115T074628Z
LAST-MODIFIED:20221115T074628Z
UID:5252-1672531200-1672617599@francescoangelico.com
SUMMARY:Concerto di Capodanno
DESCRIPTION:Staatsorchester Kassel \nDvořák\, Brahms\, Smetana\, Glinka
URL:https://francescoangelico.com/event/concerto-di-capodanno-2023-01-01/
END:VEVENT
BEGIN:VEVENT
DTSTART;VALUE=DATE:20230112
DTEND;VALUE=DATE:20230113
DTSTAMP:20260421T171406
CREATED:20221119T095023Z
LAST-MODIFIED:20221217T110051Z
UID:5285-1673481600-1673567999@francescoangelico.com
SUMMARY:Symphony Concert
DESCRIPTION:TauberPhilharmonie\, Weikersheim \, Germany \nBundesjugendorchester \nViolin: Christian Tetzlaff \nLuigi Dallapiccola: “Variazioni per orchestra” \nJosef Suk: Fantasie in G minor  for Violin and orchestra op.24 \nDmitrij Dmitrievič Šostakovič. Symphony no. 11 op.103 ” the Year 1905″ \n 
URL:https://francescoangelico.com/event/symphony-concert-31/
END:VEVENT
BEGIN:VEVENT
DTSTART;VALUE=DATE:20230113
DTEND;VALUE=DATE:20230114
DTSTAMP:20260421T171406
CREATED:20221119T095207Z
LAST-MODIFIED:20221217T110026Z
UID:5287-1673568000-1673654399@francescoangelico.com
SUMMARY:Symphony Concert
DESCRIPTION:Franziskaner Konzerthaus\, Villingen-Schwenningen\, Germany \nBundesjugendorchester \nViolin: Christian Tetzlaff \nLuigi Dallapiccola: “Variazioni per orchestra” \nJosef Suk: Fantasie in G minor  for Violin and orchestra op.24 \nDmitrij Dmitrievič Šostakovič. Symphony no. 11 op.103 ” the Year 1905″ \n 
URL:https://francescoangelico.com/event/symphony-concert-32/
END:VEVENT
BEGIN:VEVENT
DTSTART;VALUE=DATE:20230114
DTEND;VALUE=DATE:20230115
DTSTAMP:20260421T171406
CREATED:20221119T101630Z
LAST-MODIFIED:20221119T101630Z
UID:5318-1673654400-1673740799@francescoangelico.com
SUMMARY:Symphony Concert
DESCRIPTION:Wiesloch\, Palatin\, Germany \nBundesjugendorchester \nViolin: Christian Tetzlaff \nAntonín Dvořák: Carneval Ouvertüre \nJosef Suk: Fantasie für Violine und Orchester in g-moll op.24 \nDmitrij Dmitrievič Šostakovič: Symphony Nr.11 op.103 “Das Jahr 1905”
URL:https://francescoangelico.com/event/symphony-concert-35/
END:VEVENT
BEGIN:VEVENT
DTSTART;VALUE=DATE:20230115
DTEND;VALUE=DATE:20230116
DTSTAMP:20260421T171406
CREATED:20221119T101721Z
LAST-MODIFIED:20221119T101721Z
UID:5320-1673740800-1673827199@francescoangelico.com
SUMMARY:Symphony Concert
DESCRIPTION:Ludwigsburg\, Forum am Schlosspark\, Germany \nBundesjugendorchester \nViolin: Christian Tetzlaff \nAntonín Dvořák: Carneval Ouvertüre \nJosef Suk: Fantasie für Violine und Orchester in g-moll op.24 \nDmitrij Dmitrievič Šostakovič: Symphony Nr.11 op.103 “Das Jahr 1905”
URL:https://francescoangelico.com/event/symphony-concert-36/
END:VEVENT
BEGIN:VEVENT
DTSTART;VALUE=DATE:20230118
DTEND;VALUE=DATE:20230119
DTSTAMP:20260421T171406
CREATED:20221217T105508Z
LAST-MODIFIED:20221217T105508Z
UID:5364-1674000000-1674086399@francescoangelico.com
SUMMARY:Symphony Concert
DESCRIPTION:Slovenska Philharmonija\, Ljubljana\, Slovenia \nBundesjugendorchester \nViolin: Christian Tetzlaff \nLuigi Dallapiccola: “Variazioni per orchestra” \nJosef Suk: Fantasie in G minor  for Violin and orchestra op.24 \nDmitrij Dmitrievič Šostakovič. Symphony no. 11 op.103 ” the Year 1905″
URL:https://francescoangelico.com/event/symphony-concert-33/
END:VEVENT
BEGIN:VEVENT
DTSTART;VALUE=DATE:20230120
DTEND;VALUE=DATE:20230121
DTSTAMP:20260421T171406
CREATED:20221119T101906Z
LAST-MODIFIED:20221119T101906Z
UID:5324-1674172800-1674259199@francescoangelico.com
SUMMARY:Symphony Concert
DESCRIPTION:Fürth\, Stadttheater\, Germany \nBundesjugendorchester \nViolin: Christian Tetzlaff \nAntonín Dvořák: Carneval Ouvertüre \nJosef Suk: Fantasie für Violine und Orchester in g-moll op.24 \nDmitrij Dmitrievič Šostakovič: Symphony Nr.11 op.103 “Das Jahr 1905”
URL:https://francescoangelico.com/event/symphony-concert-38/
END:VEVENT
BEGIN:VEVENT
DTSTART;VALUE=DATE:20230122
DTEND;VALUE=DATE:20230123
DTSTAMP:20260421T171406
CREATED:20221119T095524Z
LAST-MODIFIED:20221217T110002Z
UID:5293-1674345600-1674431999@francescoangelico.com
SUMMARY:Symphony Concert
DESCRIPTION:Elbphilharmonie\, Hamburg\, Germany \nBundesjugendorchester \nViolin: Christian Tetzlaff \nLuigi Dallapiccola: “Variazioni per orchestra” \nJosef Suk: Fantasie in G minor  for Violin and orchestra op.24 \nDmitrij Dmitrievič Šostakovič. Symphony no. 11 op.103 ” the Year 1905″ \n 
URL:https://francescoangelico.com/event/symphony-concert-34/
END:VEVENT
END:VCALENDAR