BEGIN:VCALENDAR
VERSION:2.0
PRODID:-//Francesco Angelico - ECPv6.15.20//NONSGML v1.0//EN
CALSCALE:GREGORIAN
METHOD:PUBLISH
X-ORIGINAL-URL:https://francescoangelico.com
X-WR-CALDESC:Events for Francesco Angelico
REFRESH-INTERVAL;VALUE=DURATION:PT1H
X-Robots-Tag:noindex
X-PUBLISHED-TTL:PT1H
BEGIN:VTIMEZONE
TZID:UTC
BEGIN:STANDARD
TZOFFSETFROM:+0000
TZOFFSETTO:+0000
TZNAME:UTC
DTSTART:20210101T000000
END:STANDARD
END:VTIMEZONE
BEGIN:VEVENT
DTSTART;VALUE=DATE:20221105
DTEND;VALUE=DATE:20221106
DTSTAMP:20260425T032854
CREATED:20220822T142108Z
LAST-MODIFIED:20220822T142209Z
UID:2049-1667606400-1667692799@francescoangelico.com
SUMMARY:Götterdämmerung
DESCRIPTION:Richard Wagner \nStaatstheater Kassel \nStage Director: Markus Dietz
URL:https://francescoangelico.com/event/goetterdaemmerung-2/
END:VEVENT
BEGIN:VEVENT
DTSTART;VALUE=DATE:20221116
DTEND;VALUE=DATE:20221117
DTSTAMP:20260425T032854
CREATED:20220822T141455Z
LAST-MODIFIED:20220822T141629Z
UID:2039-1668556800-1668643199@francescoangelico.com
SUMMARY:Symphony Concert
DESCRIPTION:Martinskirche Kassel\, Germany \nOrgel: Eckhard Manz \nStaatsorchester Kassel \nZsigmond Szathmáry: Concerto for Organ and Orchestra (German Premiere) \nAnton Bruckner: Symphony n. 4 in E flat major  (Version 1878/80)
URL:https://francescoangelico.com/event/symphony-concert-16/
END:VEVENT
BEGIN:VEVENT
DTSTART;VALUE=DATE:20221117
DTEND;VALUE=DATE:20221118
DTSTAMP:20260425T032854
CREATED:20220822T141455Z
LAST-MODIFIED:20220822T141455Z
UID:2042-1668643200-1668729599@francescoangelico.com
SUMMARY:Symphony Concert
DESCRIPTION:Martinskirche Kassel\, Germany \nOrgel: Eckhard Manz \nStaatsorchester Kassel \nZsigmond Szathmáry: Concerto for Organ and Orchestra (German Premiere) \nAnton Bruckner: Symphony n. 4 in E flat major  (Version 1878/80)
URL:https://francescoangelico.com/event/symphony-concert-16-2022-11-17/
END:VEVENT
BEGIN:VEVENT
DTSTART;VALUE=DATE:20221119
DTEND;VALUE=DATE:20221120
DTSTAMP:20260425T032854
CREATED:20220822T142108Z
LAST-MODIFIED:20220822T142108Z
UID:2055-1668816000-1668902399@francescoangelico.com
SUMMARY:Götterdämmerung
DESCRIPTION:Richard Wagner \nStaatstheater Kassel \nStage Director: Markus Dietz
URL:https://francescoangelico.com/event/goetterdaemmerung-2-2022-11-19/
END:VEVENT
BEGIN:VEVENT
DTSTART;VALUE=DATE:20221126
DTEND;VALUE=DATE:20221127
DTSTAMP:20260425T032854
CREATED:20220822T142108Z
LAST-MODIFIED:20220822T142108Z
UID:2056-1669420800-1669507199@francescoangelico.com
SUMMARY:Götterdämmerung
DESCRIPTION:Richard Wagner \nStaatstheater Kassel \nStage Director: Markus Dietz
URL:https://francescoangelico.com/event/goetterdaemmerung-2-2022-11-26/
END:VEVENT
END:VCALENDAR