BEGIN:VCALENDAR
VERSION:2.0
PRODID:-//Francesco Angelico - ECPv6.15.20//NONSGML v1.0//EN
CALSCALE:GREGORIAN
METHOD:PUBLISH
X-ORIGINAL-URL:https://francescoangelico.com
X-WR-CALDESC:Events for Francesco Angelico
REFRESH-INTERVAL;VALUE=DURATION:PT1H
X-Robots-Tag:noindex
X-PUBLISHED-TTL:PT1H
BEGIN:VTIMEZONE
TZID:UTC
BEGIN:STANDARD
TZOFFSETFROM:+0000
TZOFFSETTO:+0000
TZNAME:UTC
DTSTART:20210101T000000
END:STANDARD
END:VTIMEZONE
BEGIN:VEVENT
DTSTART;VALUE=DATE:20220908
DTEND;VALUE=DATE:20220909
DTSTAMP:20260424T181601
CREATED:20220822T134522Z
LAST-MODIFIED:20220822T134522Z
UID:2012-1662595200-1662681599@francescoangelico.com
SUMMARY:Rigoletto
DESCRIPTION:Giuseppe Verdi \nGöteborg Opera \nStage Director: David Bösch
URL:https://francescoangelico.com/event/rigoletto-2-2022-09-08/
END:VEVENT
END:VCALENDAR