BEGIN:VCALENDAR
VERSION:2.0
PRODID:-//Francesco Angelico - ECPv6.15.20//NONSGML v1.0//EN
CALSCALE:GREGORIAN
METHOD:PUBLISH
X-WR-CALNAME:Francesco Angelico
X-ORIGINAL-URL:https://francescoangelico.com/de/
X-WR-CALDESC:Veranstaltungen für Francesco Angelico
REFRESH-INTERVAL;VALUE=DURATION:PT1H
X-Robots-Tag:noindex
X-PUBLISHED-TTL:PT1H
BEGIN:VTIMEZONE
TZID:UTC
BEGIN:STANDARD
TZOFFSETFROM:+0000
TZOFFSETTO:+0000
TZNAME:UTC
DTSTART:20220101T000000
END:STANDARD
END:VTIMEZONE
BEGIN:VEVENT
DTSTART;VALUE=DATE:20230623
DTEND;VALUE=DATE:20230624
DTSTAMP:20260419T142453
CREATED:20220822T144247Z
LAST-MODIFIED:20220822T144732Z
UID:2092-1687478400-1687564799@francescoangelico.com
SUMMARY:Mefistofele
DESCRIPTION:Arrigo Boito \nOpéra National du Capitole Toulouse\, France \nStage Director: Jean-Louis Grinda
URL:https://francescoangelico.com/de/event/mefistofele-2/
END:VEVENT
BEGIN:VEVENT
DTSTART;VALUE=DATE:20230625
DTEND;VALUE=DATE:20230626
DTSTAMP:20260419T142453
CREATED:20220822T144247Z
LAST-MODIFIED:20220822T144247Z
UID:2094-1687651200-1687737599@francescoangelico.com
SUMMARY:Mefistofele
DESCRIPTION:Arrigo Boito \nOpéra National du Capitole Toulouse\, France \nStage Director: Jean-Louis Grinda
URL:https://francescoangelico.com/de/event/mefistofele-2-2023-06-25/
END:VEVENT
BEGIN:VEVENT
DTSTART;VALUE=DATE:20230627
DTEND;VALUE=DATE:20230628
DTSTAMP:20260419T142453
CREATED:20220822T144247Z
LAST-MODIFIED:20220822T144247Z
UID:2095-1687824000-1687910399@francescoangelico.com
SUMMARY:Mefistofele
DESCRIPTION:Arrigo Boito \nOpéra National du Capitole Toulouse\, France \nStage Director: Jean-Louis Grinda
URL:https://francescoangelico.com/de/event/mefistofele-2-2023-06-27/
END:VEVENT
BEGIN:VEVENT
DTSTART;VALUE=DATE:20230630
DTEND;VALUE=DATE:20230701
DTSTAMP:20260419T142453
CREATED:20220822T144247Z
LAST-MODIFIED:20220822T144247Z
UID:2096-1688083200-1688169599@francescoangelico.com
SUMMARY:Mefistofele
DESCRIPTION:Arrigo Boito \nOpéra National du Capitole Toulouse\, France \nStage Director: Jean-Louis Grinda
URL:https://francescoangelico.com/de/event/mefistofele-2-2023-06-30/
END:VEVENT
BEGIN:VEVENT
DTSTART;VALUE=DATE:20230702
DTEND;VALUE=DATE:20230703
DTSTAMP:20260419T142453
CREATED:20220822T144247Z
LAST-MODIFIED:20220822T144247Z
UID:2097-1688256000-1688342399@francescoangelico.com
SUMMARY:Mefistofele
DESCRIPTION:Arrigo Boito \nOpéra National du Capitole Toulouse\, France \nStage Director: Jean-Louis Grinda
URL:https://francescoangelico.com/de/event/mefistofele-2-2023-07-02/
END:VEVENT
BEGIN:VEVENT
DTSTART;VALUE=DATE:20230714
DTEND;VALUE=DATE:20230715
DTSTAMP:20260419T142453
CREATED:20221119T103612Z
LAST-MODIFIED:20221119T103612Z
UID:5342-1689292800-1689379199@francescoangelico.com
SUMMARY:Symphony Concert
DESCRIPTION:Meistersingerhalle\, Nürnberg\, Germany \nFlöte: Matvey Demin \n\n\nGiuseppe Martucci: Notturno für Orchester op. 70 Nr. 1 \nWolfgang Amadeus Mozart: Flötenkonzert G-Dur KV 313 \nDmitrij Dmitrievič Šostakovič: Symphonie Nr. 11 g-Moll op. 103 „Das Jahr 1905”
URL:https://francescoangelico.com/de/event/symphony-concert-39/
END:VEVENT
BEGIN:VEVENT
DTSTART;VALUE=DATE:20231002
DTEND;VALUE=DATE:20231003
DTSTAMP:20260419T142453
CREATED:20230705T193255Z
LAST-MODIFIED:20230705T193600Z
UID:5412-1696204800-1696291199@francescoangelico.com
SUMMARY:Symphony Concert
DESCRIPTION:Stadthalle\, Kassel \nViolin: Katalin Hercegh \nJohannes Brahms: Violin Concerto in D major op. 77 \nGustav Mahler: Symphony n. 5 in C sharp minor
URL:https://francescoangelico.com/de/event/symphony-concert-40/
END:VEVENT
BEGIN:VEVENT
DTSTART;VALUE=DATE:20231007
DTEND;VALUE=DATE:20231008
DTSTAMP:20260419T142453
CREATED:20230705T194855Z
LAST-MODIFIED:20230705T195107Z
UID:5415-1696636800-1696723199@francescoangelico.com
SUMMARY:Opera Gala
DESCRIPTION:Opéra Berlioz\, Montpellier \nSopran: Yunuet Laguna \nTenor: Oreste Cosimo \nBariton: Gëzim Myshketa \nChoeur de l´Opera de Nice Cote d´Azur \nChoeur Opéra national Montpellier Occitanie \nOrchestre national Montpellier Occitanie \nVerdi\, Mascagni\, Cilea\, Leoncavallo\, Puccini\, Giordano\, Boito
URL:https://francescoangelico.com/de/event/opera-gala/
END:VEVENT
BEGIN:VEVENT
DTSTART;VALUE=DATE:20231022
DTEND;VALUE=DATE:20231023
DTSTAMP:20260419T142453
CREATED:20230705T192129Z
LAST-MODIFIED:20230705T192951Z
UID:5403-1697932800-1698019199@francescoangelico.com
SUMMARY:L´ultimo sogno
DESCRIPTION:Carlo Ciceri  \nStaatstheater\, Kassel \nStage Director: Bruno Klimek \n  \n 
URL:https://francescoangelico.com/de/event/symphony-concert-37/
END:VEVENT
BEGIN:VEVENT
DTSTART;VALUE=DATE:20231026
DTEND;VALUE=DATE:20231027
DTSTAMP:20260419T142453
CREATED:20230705T200547Z
LAST-MODIFIED:20230705T200547Z
UID:5421-1698278400-1698364799@francescoangelico.com
SUMMARY:Symphony Concert
DESCRIPTION:Martinskirche \, Kassel \nApollon Musagète Quartett \nStaatsorchester Kassel \nEmilie Mayer: Faust Ouvertüre op.46 \nLouis Spohr: Konzert für Streichquartett in a-Moll op.131 \nFelix Mendelssohn-Bartholdy: Sinfonie Nr. 3 in a-Moll op.56 „Schottische“ \n 
URL:https://francescoangelico.com/de/event/symphony-concert-41/
END:VEVENT
BEGIN:VEVENT
DTSTART;VALUE=DATE:20231029
DTEND;VALUE=DATE:20231030
DTSTAMP:20260419T142453
CREATED:20230705T201202Z
LAST-MODIFIED:20230705T201202Z
UID:5425-1698537600-1698623999@francescoangelico.com
SUMMARY:L'ultimo sogno
DESCRIPTION:Carlo Ciceri \nStaatstheater Kassel \nStage Director: Bruno Klimek \n 
URL:https://francescoangelico.com/de/event/lultimo-sogno/
END:VEVENT
BEGIN:VEVENT
DTSTART;VALUE=DATE:20231124
DTEND;VALUE=DATE:20231125
DTSTAMP:20260419T142453
CREATED:20230705T202259Z
LAST-MODIFIED:20230705T202259Z
UID:5432-1700784000-1700870399@francescoangelico.com
SUMMARY:Symphony Concert
DESCRIPTION:LAC\, Lugano \nSopran: Liga Liedskalnina \nSopran: Elisa Prosperi \nBariton: Richard Rittelmann \nEnsemble900 del Conservatorio della Svizzera italiana \nGyörgy Ligeti: A bölcsőtől a sírig\n                               Aventures et Nouvelles aventures \n 
URL:https://francescoangelico.com/de/event/symphony-concert-42/
END:VEVENT
BEGIN:VEVENT
DTSTART;VALUE=DATE:20231126
DTEND;VALUE=DATE:20231127
DTSTAMP:20260419T142453
CREATED:20230705T202620Z
LAST-MODIFIED:20230705T202620Z
UID:5435-1700956800-1701043199@francescoangelico.com
SUMMARY:L'ultimo sogno
DESCRIPTION:Carlo Ciceri  \nStaatstheater Kassel \nStage Director: Bruno Klimek
URL:https://francescoangelico.com/de/event/lultimo-sogno-2/
END:VEVENT
BEGIN:VEVENT
DTSTART;VALUE=DATE:20231206
DTEND;VALUE=DATE:20231207
DTSTAMP:20260419T142453
CREATED:20230705T204356Z
LAST-MODIFIED:20231029T170626Z
UID:5439-1701820800-1701907199@francescoangelico.com
SUMMARY:Symphony Concert
DESCRIPTION:Stadthalle Chemnitz\, \nCello: Johannes Moser \nRobert Schumann-Philharmonie \nFelix Mendelssohn-Bartholdy: Die Hebriden Ouvertüre op. 26 \nRobert Schumann: Konzert für Cello und Orchester in a-Moll op.129 \nAntonin Dvořák: Symphony n.9 in e-Moll op.95 “From the New World” \n  \n 
URL:https://francescoangelico.com/de/event/symphony-concert-43/
END:VEVENT
BEGIN:VEVENT
DTSTART;VALUE=DATE:20231207
DTEND;VALUE=DATE:20231208
DTSTAMP:20260419T142453
CREATED:20230705T204442Z
LAST-MODIFIED:20231029T170739Z
UID:5443-1701907200-1701993599@francescoangelico.com
SUMMARY:Symphony Concert
DESCRIPTION:Stadthalle Chemnitz\, \nCello: Johannes Moser \nRobert Schumann-Philharmonie \nFelix Mendelssohn-Bartholdy: Die Hebriden Ouvertüre op. 26 \nRobert Schumann: Konzert für Cello und Orchester in a-Moll op.129 \nAntonin Dvořák: Symphony n.9 in e-Moll op.95 “From the New World” \n 
URL:https://francescoangelico.com/de/event/symphony-concert-44/
END:VEVENT
BEGIN:VEVENT
DTSTART;VALUE=DATE:20231218
DTEND;VALUE=DATE:20231219
DTSTAMP:20260419T142453
CREATED:20230705T205232Z
LAST-MODIFIED:20230705T205232Z
UID:5447-1702857600-1702943999@francescoangelico.com
SUMMARY:Symphony Concert
DESCRIPTION:Staadthalle Kassel \nFlute: Mario Bruno \nStaatsorchester Kassel \nGoffredo Petrassi: Flute concerto \nWolfgang Amadeus Mozart: Symphony n.41 in c-Major KV 551 „Jupiter“ \nRichard Strauss: Rosenkavalier Suite
URL:https://francescoangelico.com/de/event/symphony-concert-45/
END:VEVENT
BEGIN:VEVENT
DTSTART;VALUE=DATE:20231222
DTEND;VALUE=DATE:20231223
DTSTAMP:20260419T142453
CREATED:20230705T205707Z
LAST-MODIFIED:20230705T205707Z
UID:5451-1703203200-1703289599@francescoangelico.com
SUMMARY:L'ultimo sogno
DESCRIPTION:Carlo Ciceri \nStaatstheater Kassel \nStage Director: Bruno Klimek
URL:https://francescoangelico.com/de/event/lultimo-sogno-3/
END:VEVENT
BEGIN:VEVENT
DTSTART;VALUE=DATE:20240111
DTEND;VALUE=DATE:20240112
DTSTAMP:20260419T142453
CREATED:20231017T132820Z
LAST-MODIFIED:20231017T132820Z
UID:5486-1704931200-1705017599@francescoangelico.com
SUMMARY:Symphony Concert
DESCRIPTION:Teatro Verdi\, Padova \nPiano:Mariangela Vacatello \nOrchestra di Padova e del Veneto \nRobert Schumann: Complete Works for Piano and Orchestra
URL:https://francescoangelico.com/de/event/symphony-concert-46/
END:VEVENT
BEGIN:VEVENT
DTSTART;VALUE=DATE:20240208
DTEND;VALUE=DATE:20240209
DTSTAMP:20260419T142453
CREATED:20231029T170027Z
LAST-MODIFIED:20231029T170027Z
UID:5512-1707350400-1707436799@francescoangelico.com
SUMMARY:Symphony Concert
DESCRIPTION:Auditorium Manzoni\, Bologna \nPianoforte: Maurizio Baglini \nVioloncello: Silvia Chiesa \nOrchestra del Teatro comunale di Bologna \n  \n\nRobert Schumann: Ouverture\, “Genoveva” op. 81 \nConcerto per violoncello e orchestra in la minore\, op. 129 \n\nOuverture\, “Manfred” op. 115 \nConcerto per pianoforte e orchestra in la minore\, op. 54
URL:https://francescoangelico.com/de/event/symphony-concert-50/
END:VEVENT
BEGIN:VEVENT
DTSTART;VALUE=DATE:20240215
DTEND;VALUE=DATE:20240216
DTSTAMP:20260419T142453
CREATED:20231017T134450Z
LAST-MODIFIED:20231017T134450Z
UID:5490-1707955200-1708041599@francescoangelico.com
SUMMARY:Symphony Concert
DESCRIPTION:Mainfrankentheater Würzburg\, \nClarinet: Sharon Kam \nPhilharmonisches Orchester Würzburg \nLouise Farrenc: Ouvertüre N.1 in e minor op.23 \nWolfgang Amadeus Mozart: Concert for clarinet in A major KV622 \nFerruccio Busoni: Berceuse élégiaque op.42 \nDmitrij Dmitrievič Šostakovič: Symphony N. 9 in E-flat major
URL:https://francescoangelico.com/de/event/symphony-concert-47/
END:VEVENT
BEGIN:VEVENT
DTSTART;VALUE=DATE:20240216
DTEND;VALUE=DATE:20240217
DTSTAMP:20260419T142453
CREATED:20231017T134657Z
LAST-MODIFIED:20231017T134657Z
UID:5494-1708041600-1708127999@francescoangelico.com
SUMMARY:Symphony Concert
DESCRIPTION:Mainfrankentheater Würzburg\, \nClarinet: Sharon Kam \nPhilharmonisches Orchester Würzburg \nLouise Farrenc: Ouvertüre N.1 in e minor op.23 \nWolfgang Amadeus Mozart: Concert for clarinet in A major KV622 \nFerruccio Busoni: Berceuse élégiaque op.42 \nDmitrij Dmitrievič Šostakovič: Symphony N. 9 in E-flat major
URL:https://francescoangelico.com/de/event/symphony-concert-48/
END:VEVENT
BEGIN:VEVENT
DTSTART;VALUE=DATE:20240309
DTEND;VALUE=DATE:20240310
DTSTAMP:20260419T142453
CREATED:20231017T135346Z
LAST-MODIFIED:20231017T135346Z
UID:5498-1709942400-1710028799@francescoangelico.com
SUMMARY:Hamletmaschine
DESCRIPTION:Wolfgang Rihm \nStaatstheater Kassel \nStage Director: Florentine Klepper
URL:https://francescoangelico.com/de/event/hamletmaschine/
END:VEVENT
BEGIN:VEVENT
DTSTART;VALUE=DATE:20240329
DTEND;VALUE=DATE:20240330
DTSTAMP:20260419T142453
CREATED:20231017T135942Z
LAST-MODIFIED:20231017T135942Z
UID:5503-1711670400-1711756799@francescoangelico.com
SUMMARY:Symphony Concert
DESCRIPTION:Stadthalle\, Kassel \nSopran: Margrethe Fredheim \nMezzosopran: Ilseyar Khayrullova \nCantiamo-Chor der Universität Kassel \nStaatstheater Chor Kassel \nStaatsorchester Kassel \nGustav Mahler: Symphony N.2 in C minor „Auferstehung“
URL:https://francescoangelico.com/de/event/symphony-concert-49/
END:VEVENT
BEGIN:VEVENT
DTSTART;VALUE=DATE:20240616
DTEND;VALUE=DATE:20240617
DTSTAMP:20260419T142453
CREATED:20240502T132620Z
LAST-MODIFIED:20240502T133804Z
UID:5531-1718496000-1718582399@francescoangelico.com
SUMMARY:Symphony Concert
DESCRIPTION:Ballhaus\, Kassel \nOboe: Sabine Nobis \nStaatsorchester Kassel \nFranz Joseph Haydn: Konzert für oboe e orchestra in C-Dur \nFranz Joseph Haydn: Symphonie Nr. 44 in e-Moll „Trauersinfonie“
URL:https://francescoangelico.com/de/event/symphony-concert-51/
END:VEVENT
BEGIN:VEVENT
DTSTART;VALUE=DATE:20240630
DTEND;VALUE=DATE:20240701
DTSTAMP:20260419T142453
CREATED:20240502T134406Z
LAST-MODIFIED:20240502T134406Z
UID:5541-1719705600-1719791999@francescoangelico.com
SUMMARY:Symphony Concert
DESCRIPTION:Ballhaus\, Kassel \nHörner: Joachim Pfannschmidt\,  Markus Brenner \nStaatsorchester Kassel \nFranz Joseph Haydn: Doppelhornkonzert in Es-Dur \nFranz Joseph Haydn:  Symphonie Nr.102 in B-Dur
URL:https://francescoangelico.com/de/event/symphony-concert-52/
END:VEVENT
BEGIN:VEVENT
DTSTART;VALUE=DATE:20240930
DTEND;VALUE=DATE:20241001
DTSTAMP:20260419T142453
CREATED:20240514T071807Z
LAST-MODIFIED:20240514T072032Z
UID:5546-1727654400-1727740799@francescoangelico.com
SUMMARY:Symphony Concert
DESCRIPTION:Stadthalle\, Kassel \nStaatsorchester Kassel \nGustav Mahler: Symphonie Nr.7 in e-Moll
URL:https://francescoangelico.com/de/event/symphony-concert-53/
END:VEVENT
BEGIN:VEVENT
DTSTART;VALUE=DATE:20241017
DTEND;VALUE=DATE:20241018
DTSTAMP:20260419T142453
CREATED:20240621T055055Z
LAST-MODIFIED:20240621T055055Z
UID:5710-1729123200-1729209599@francescoangelico.com
SUMMARY:Elisir d'amore
DESCRIPTION:Gaetano Donizetti \nLettische Nationaloper\, Riga \nStage Director: Sven-Eric Bechtolf
URL:https://francescoangelico.com/de/event/elisir-damore/
END:VEVENT
BEGIN:VEVENT
DTSTART;VALUE=DATE:20241024
DTEND;VALUE=DATE:20241025
DTSTAMP:20260419T142453
CREATED:20240723T164742Z
LAST-MODIFIED:20240723T164742Z
UID:5769-1729728000-1729814399@francescoangelico.com
SUMMARY:Symphony Concert
DESCRIPTION:Kasseler Musiktage\, Eröffnungskonzert \nMartinskirche\, Kassel \nOrgel: Ines Schüttengruber \nStaatsorchester Kassel \nWolfgang Amadeus Mozart: Maurerische Trauermusik K.477 \nFerrucio Busoni: Berceuse élégiaque op.42 \nCamille Saint-Saëns: Symphonie Nr.3 in c-moll op.78 „avec orgue“
URL:https://francescoangelico.com/de/event/symphony-concert-64/
END:VEVENT
BEGIN:VEVENT
DTSTART;VALUE=DATE:20241110
DTEND;VALUE=DATE:20241111
DTSTAMP:20260419T142453
CREATED:20240729T140105Z
LAST-MODIFIED:20240729T140105Z
UID:5802-1731196800-1731283199@francescoangelico.com
SUMMARY:Symphony Concert
DESCRIPTION:Lac\, Lugano \nEnsemble 900\, Conservatorio della Svizzera italiana \nHans Abrahmsen: Winternacht \nTōru Takemitsu: Nostalghia \nNiccolò Castiglioni: Inverno In-Ver
URL:https://francescoangelico.com/de/event/symphony-concert-68/
END:VEVENT
BEGIN:VEVENT
DTSTART;VALUE=DATE:20241120
DTEND;VALUE=DATE:20241121
DTSTAMP:20260419T142453
CREATED:20240514T072950Z
LAST-MODIFIED:20240514T072950Z
UID:5555-1732060800-1732147199@francescoangelico.com
SUMMARY:Symphony Concert
DESCRIPTION:Martinskirche\, Kassel \nKantorei St. Martin \nStaatsorchester Kassel \nAnton Bruckner: Te Deum \nAnton Bruckner: Symphonie Nr.2 in c-Moll (Fassung 1877)
URL:https://francescoangelico.com/de/event/symphony-concert-54/
END:VEVENT
END:VCALENDAR